BEGIN:VCALENDAR
VERSION:2.0
PRODID:-//עמוטק | מערכת ניהול עמותה - ECPv5.1.6//NONSGML v1.0//EN
CALSCALE:GREGORIAN
METHOD:PUBLISH
X-WR-CALNAME:עמוטק | מערכת ניהול עמותה
X-ORIGINAL-URL:https://amutec.org
X-WR-CALDESC:Events for עמוטק | מערכת ניהול עמותה
BEGIN:VTIMEZONE
TZID:Europe/Moscow
BEGIN:STANDARD
TZOFFSETFROM:+0300
TZOFFSETTO:+0300
TZNAME:MSK
DTSTART:20180101T000000
END:STANDARD
END:VTIMEZONE
BEGIN:VEVENT
DTSTART;TZID=Europe/Moscow:20180801T180000
DTEND;TZID=Europe/Moscow:20180801T200000
DTSTAMP:20260421T194928
CREATED:20180813T000928Z
LAST-MODIFIED:20180813T000928Z
UID:483-1533146400-1533153600@amutec.org
SUMMARY:קורס בניה וניהול דף פייסבוק
DESCRIPTION:
URL:https://amutec.org/event/%d7%a7%d7%95%d7%a8%d7%a1-%d7%91%d7%a0%d7%99%d7%94-%d7%95%d7%a0%d7%99%d7%94%d7%95%d7%9c-%d7%93%d7%a3-%d7%a4%d7%99%d7%99%d7%a1%d7%91%d7%95%d7%a7/
LOCATION:סמינר לוינסקי\, שושנה פרסיץ 15\, תל - אביב\, Israel
ORGANIZER;CN="%D7%99%D7%95%D7%A1%D7%99%20%D7%A4%D7%95%D7%9C%D7%A7":MAILTO:info@amutec.org.il
END:VEVENT
END:VCALENDAR