BEGIN:VCALENDAR
VERSION:2.0
PRODID:-//עמוטק | מערכת ניהול עמותה - ECPv5.1.6//NONSGML v1.0//EN
CALSCALE:GREGORIAN
METHOD:PUBLISH
X-WR-CALNAME:עמוטק | מערכת ניהול עמותה
X-ORIGINAL-URL:https://amutec.org
X-WR-CALDESC:Events for עמוטק | מערכת ניהול עמותה
BEGIN:VTIMEZONE
TZID:Europe/Moscow
BEGIN:STANDARD
TZOFFSETFROM:+0300
TZOFFSETTO:+0300
TZNAME:MSK
DTSTART:20180101T000000
END:STANDARD
END:VTIMEZONE
BEGIN:VEVENT
DTSTART;TZID=Europe/Moscow:20180923T150000
DTEND;TZID=Europe/Moscow:20180923T170000
DTSTAMP:20260421T140908
CREATED:20180905T105939Z
LAST-MODIFIED:20180905T111934Z
UID:729-1537714800-1537722000@amutec.org
SUMMARY:הרצאה בנושא דיני עמותות
DESCRIPTION:
URL:https://amutec.org/event/%d7%94%d7%a8%d7%a6%d7%90%d7%94-%d7%91%d7%a0%d7%95%d7%a9%d7%90-%d7%93%d7%99%d7%a0%d7%99-%d7%a2%d7%9e%d7%95%d7%aa%d7%95%d7%aa/
LOCATION:סמינר לוינסקי\, שושנה פרסיץ 15\, תל - אביב\, Israel
ATTACH;FMTTYPE=image/png:https://amutec.org/wp-content/uploads/2018/08/לוגו-תאוצה-3.png
ORGANIZER;CN="%D7%99%D7%95%D7%A1%D7%99%20%D7%A4%D7%95%D7%9C%D7%A7":MAILTO:info@amutec.org.il
END:VEVENT
END:VCALENDAR